BEGIN:VCALENDAR
VERSION:2.0
PRODID:-//wp-events-plugin.com//5.99912//EN
TZID:Europe/Berlin
X-WR-TIMEZONE:Europe/Berlin
BEGIN:VEVENT
UID:0-613@nattheim.albverein.eu
DTSTART;TZID=Europe/Berlin:20260501T090000
DTEND;TZID=Europe/Berlin:20260501T140000
DTSTAMP:20260411T192714Z
URL:https://nattheim.albverein.eu/events/1-mai-wanderung/
SUMMARY:1.Mai-Wanderung
DESCRIPTION:Am Freitag\, 1. Mai treffen wir unms um 9.00 hr auf dem Parkpla
 tz der Ramensteinhalle zur Fahrt nach Staufen. Von dort wandern wir unter 
 Führuing von Helmut Hermann im Bachtal hinauf nach Altenberg mit Blick Ri
 chtung Donautal. Durch ein Waldstück geht es auf Schotterwegen bis hin zu
 r Wallfahrtskirche Maria Schnee. Auf dem Stationenweg führt dann der Weg 
 hkinunter zur Zwerbachquelle mit kleiner Kneippanlage. Nach der Mittagsein
 kehr im "Schlössle" geht es zurück zu den Fahrzeugen. Die Gesamtwanderst
 recke beläuft sich auf 7 km bei 90 Höhenmeter rauf und runter. Wie immer
  sind Nichtmtglieder gern gesehene Gäste - die Wanderungen des Albvereins
  sind kostenlos.
LOCATION:Staufen\, Staufen\, Staufen\, Bayern\, Deutschland
GEO:48.6595358;10.2812522
X-APPLE-STRUCTURED-LOCATION;VALUE=URI;X-ADDRESS=Staufen\, Staufen\, Bayern\
 , Deutschland;X-APPLE-RADIUS=100;X-TITLE=Staufen:geo:48.6595358,10.2812522
END:VEVENT
BEGIN:VTIMEZONE
TZID:Europe/Berlin
X-LIC-LOCATION:Europe/Berlin
BEGIN:DAYLIGHT
DTSTART:20260329T030000
TZOFFSETFROM:+0100
TZOFFSETTO:+0200
TZNAME:CEST
END:DAYLIGHT
END:VTIMEZONE
END:VCALENDAR